BEGIN:VCALENDAR
VERSION:2.0
BEGIN:VEVENT
UID:0D6F0C44-7C7A-46A0-B984-43A5951EA27C
DTSTART:20220409T190000Z
DTEND:20220409T230000Z
SUMMARY:The Mavericks in Concert April 9\, 2022
DESCRIPTION:The Mavericks in Concert April 9\, 2022 Arena Theatre Houston \
 n   The Mavericks bring their unique rock and country sound infused with L
 atin flavors\, to Arena Theatre celebrating their first-ever\, all-Spanish
  album\, “En Español.” The Mavericks Top 40 hits include “What a Crying Sh
 ame\,” “There Goes My Heart\,” and “O What a Thrill.” Founder and lead sin
 ger/songwriter Raul Malo had grown up steeped in Latin music forms from hi
 s family\, along with a love of rock and country forming an approach to mu
 sic that blended genres and resonated with audiences. \n Arena Theatre! 73
 26 Southwest Freeway Houston\, Texas 77074 BOX OFFICE : 713-772-5900
                       See more and buy tickets at: https://arenahouston.co
 m/\nArena Theatre\n7326 Southwest Freeway\, Houston\, Texas 77074\nHouston
 \, TX 77074 United States\n
LOCATION:7326 Southwest Freeway\, Houston\, Texas 77074\, Houston\, TX 7707
 4
URL:http://houston.bubblelife.com/community/turn_to_productions_1/library/3
 59702501/key/3511101763/The_Mavericks_in_Concert_April_9_2022
CREATED:20220329T191203Z
LAST-MODIFIED:20220329T191203Z
DTSTAMP:20260420T190033Z
CLASS:PUBLIC
STATUS:CONFIRMED
TRANSP:TRANSPARENT
SEQUENCE:1
END:VEVENT
END:VCALENDAR
