BEGIN:VCALENDAR
VERSION:2.0
BEGIN:VEVENT
UID:79FB65A6-9C72-4A73-B348-056A95A075F8
DTSTART:20220423T190000Z
DTEND:20220423T230000Z
SUMMARY:Ronnie Milsap in Concert
DESCRIPTION:Ronnie Milsap in Concert Sat.\, Apr. 23 Arena Theatre \nRonnie
  Milsap is one of country music’s most popular and influential performers
  of the 1970s and 1980s. He’d go on to top the country chart more than a d
 ozen times with such enduring hits as “Let My Love Be Your Pillow” and “Wh
 at a Difference You’ve Made in My Life”. He became one of the most success
 ful and versatile country “crossover” singers of his time\, appealing to b
 oth country and pop music markets with hit songs that incorporated pop\, R
 &B\, and rock and roll elements. His biggest crossover hits include “It Wa
 s Almost Like a Song”\, “Smoky Mountain Rain”\, “(There’s) No Gettin’ Over
  Me”\, “I Wouldn’t Have Missed It for the World”\, “Any Day Now”\, and “St
 ranger in My House.” \n Arena Theatre! 7326 Southwest Freeway  Houston\, T
 exas 77074 BOX OFFICE: 713-772-5900 See more and buy tickets at: https://a
 renahouston.com/\nArena Theatre\n7326 Southwest Freeway\,\nHouston\, TX 77
 074 United States\n
LOCATION:7326 Southwest Freeway\,\, Houston\, TX 77074
URL:http://houston.bubblelife.com/community/turn_to_productions_1/library/3
 59702501/key/3511101791/Ronnie_Milsap_in_Concert
CREATED:20220329T193149Z
LAST-MODIFIED:20220329T193149Z
DTSTAMP:20260420T190024Z
CLASS:PUBLIC
STATUS:CONFIRMED
TRANSP:TRANSPARENT
SEQUENCE:1
END:VEVENT
END:VCALENDAR
