BEGIN:VCALENDAR
VERSION:2.0
BEGIN:VEVENT
UID:B5942079-5FFC-41C0-8D4D-BA38286E8AC6
DTSTART:20220506T200000Z
DTEND:20220506T230000Z
SUMMARY:Elida Reyna y Avante Tejano Celebration
DESCRIPTION:Elida Reyna’s Jukebox Tour Comes to RISE Rooftop for Cinco de M
 ayo Friday\, May 6 | 8:00 PM \n Ticket Link: hive.co/l/3q4htd \nPresale GA
 : $5 | DOS GA: $10 | VIP Tables: $100 \nDoors Open at 8pm | Drink Specials
  before 10pm | 18+ \nMikey Mike Promotions and Rise Rooftop Present \n CIN
 CO DE MAYO TEJANO CELEBRATION \nFeaturing: ELIDA REYNA Y AVANTE and MC2 y
  Los Bad Hombres \nHosted by Pure Tejano Fierro HD \n BO CORONADj Eric O I
 n Da Mix  \n Elida Reyna also known as Elida (born August 17\, 1972 in San
  Antonio\, Texas) is an American Tejano music singer.Her band Elida Reyna
  Y Avante\, also known as Elida Y Avante (EYA)\, is a Latin Grammy Award w
 inning Tejano band formed in the Rio Grande Valley in 1992. Their first tw
 o albums “Atrevete” (1994) and “Algo Entero” (1996) were qualified for gol
 d status and produced the popular singles “Luna Llena”and “Lagrimas De Amo
 r”. They were awarded “Billboard” Magazines “Revelacion Del Año” award\, a
 nd were named “Rising Group of the Year” at the TTMA Industry Awards in 19
 95. Their 2010 album\, “Fantasia”\, earned them a Latin Grammy Award. Lead
  singer Elida Reyna was given a place in the “Tejano Roots Hall of Fame.”\
 nRISE Rooftop\n2600 Travis St\nHouston\, TX 77006 United States\n
LOCATION:2600 Travis St\, Houston\, TX 77006
URL:http://houston.bubblelife.com/community/turn_to_productions_1/library/3
 59702501/key/3511135002/Elida_Reyna_y_Avante_Tejano_Celebration
CREATED:20220501T192717Z
LAST-MODIFIED:20220501T192717Z
DTSTAMP:20260420T190024Z
CLASS:PUBLIC
STATUS:CONFIRMED
TRANSP:TRANSPARENT
SEQUENCE:1
END:VEVENT
END:VCALENDAR
