BEGIN:VCALENDAR
VERSION:2.0
BEGIN:VEVENT
UID:DEE631C0-CEC1-4789-817F-6D15A3D7776D
DTSTART:20220519T190000Z
DTEND:20220519T230000Z
SUMMARY:RA at RISE Rooftop The Intercorrupted Tour
DESCRIPTION:RA at RISE Rooftop \n The Intercorrupted Tour \n with Stitched
  Up Heart\, September Mourning\, Killakoi \nThursday\, May 19 Ticket Link:
  https://hive.co/l/3q4hsz Use Promo Code TURNTO for a 10% Discount! \nAdv.
  GA: $20 | Day of Show $23 | VIP Table: $200 Doors: 6:00PM | Show: 7:00PM
  | All Ages \nMusicality is the connective tissue binding and bridging Ra’
 s past to its present. It is also responsible for a sound so enigmatic it
  continues transcending time\, resonating with a fan base that has yet to
  allow Ra to release its melodic grip on them. That grip is a culmination
  of years fraught with trials and triumphs and many lessons learned\; howe
 ver\, perseverance and a passionate resolve pushed Ra far past its genesis
  to become a band still relevant in today’s ever-changing musical landscap
 e.\nRISE Rooftop\n2600 Travis Street\, Suite R\nHouston\, TX 77006 United
  States\n
LOCATION:2600 Travis Street\, Suite R\, Houston\, TX 77006
URL:http://houston.bubblelife.com/community/turn_to_productions_1/library/3
 59702501/key/3511138471/RA_at_RISE_Rooftop_The_Intercorrupted_Tour
CREATED:20220516T010341Z
LAST-MODIFIED:20220516T010341Z
DTSTAMP:20260420T175034Z
CLASS:PUBLIC
STATUS:CONFIRMED
TRANSP:TRANSPARENT
SEQUENCE:1
END:VEVENT
END:VCALENDAR
