BEGIN:VCALENDAR
VERSION:2.0
BEGIN:VEVENT
UID:A609B85C-8A3C-4C84-B6F5-06ECEC723679
DTSTART:20220512T200000Z
DTEND:20220512T230000Z
SUMMARY:Tyler Braden at RISE Rooftop
DESCRIPTION:TYLER BRADEN Thursday\, May 12\, 7:00 PM Ticket Link: https://h
 ive.co/l/3q4hsu Adv. GA: $10 Day of Show: $17 VIP Table: $200 Doors: 7:00P
 M | Show: 8:00PM | All Ages \n FREE Cover for First Responders\, Military\
 , and Veterans with a valid I.D. If ever there was a Country artist ready
  to set the world on fire\, it would have to be Tyler Braden. He has the g
 ritty powerhouse vocal\, the expressive pen and the ability to deliver a l
 yric with complete conviction worthy of a headliner. Braden grew up in Sla
 pout\, AL\, with parents who fostered an early appreciation for Country mu
 sic\, guitar-playing songwriters filling the airwaves\, and a group of roc
 k-loving friends. His early twenties saw him playing local shows and touri
 ng the Southeast while serving as a first responder in Montgomery\, AL\, a
 nd then continued firefighting in the suburbs of Nashville while preparing
  to take his music career to the next level. With more than 85.5 MILLION s
 treams already to his name and a growing list of major tour credits\, he i
 ntroduced himself to world as a major label recording artist with his take
  on NEEDTOBREATHE’s hit “Brother.” Praised for his “commanding delivery” (
 MusicRow)\, Braden offered the song as a tribute to his first responder fa
 mily and all those fighting on the frontlines during the pandemic. To date
 \, he’s earned massive fan response from original releases including “Love
  Is A Dead End Road\,” “Secret\," “What Do They Know\,” "Ways To Miss You\
 ," and most recently “Try Losing One.” Braden’s Warner Music Nashville deb
 ut EP WHAT DO THEY KNOW (WDTK) is out now.\nRISE Rooftop\n2600 Travis St\n
 Houston\, TX 77006 United States\n
LOCATION:2600 Travis St\, Houston\, TX 77006
URL:http://houston.bubblelife.com/community/turn_to_productions_1/library/3
 59702501/key/3511139994/Tyler_Braden_at_RISE_Rooftop
CREATED:20220506T050620Z
LAST-MODIFIED:20220506T050620Z
DTSTAMP:20260420T190024Z
CLASS:PUBLIC
STATUS:CONFIRMED
TRANSP:TRANSPARENT
SEQUENCE:1
END:VEVENT
END:VCALENDAR
