BEGIN:VCALENDAR
VERSION:2.0
BEGIN:VEVENT
UID:BE4F11B0-8797-43C5-9186-F3DC4FAFD99F
DTSTART:20220626T120000Z
DTEND:20220626T200000Z
SUMMARY:Kids Let's Party Fest
DESCRIPTION:Featuring Adassa from the Oscar-winning hit movie "Encanto" \nI
 n honor of National Children’s Day \, this family event will feature an am
 azing musical concert\, as well as great and exciting attractions and acti
 vities from the park such as - bike rentals and trails\, a skatepark\, kay
 ak\, canoe and paddle\, boat tours\, a kids play area\, a dog park\, arts
  and crafts\, motivational architecture\, beautiful gardens and the best s
 kyline view in H-Town! The Kids Lets Party Fest benefits the Diaz Music In
 stitute who welcome you come out of all have FUN! \nA Super Star lineup fe
 aturing Adassa (the voice of Dolores in  Disney ’s Oscar-winning epic hit
  movie "Encanto" )\, performing live - "We Don’t Talk About  Bruno" and ma
 ny other featured songs in the hit movie! \nPerformances will also include
  That Girl Lay Lay of Nickelodeon and Netflix \, a Selena Tribute by artis
 t Isabel Marie \, #1 Kids DJ Livia who performed on the Ellen DeGeneres Sh
 ow\, JD McCrary (Young Simba from "Lion King" )\, #1 acapella kids group A
 capop Kids (first Houston performance)\, TikTok sensations (with more than
  15 million followers) The Enky Boys \, first bilingual kids group Lil Big
  Kids \, Time Magazines “Kid of the Year" Orión Jean \, Houston Astros Orb
 it & some of the members of the Shooting Stars \, and MUCH\, MUCH More! Co
 me out and enjoy the Fun! \nBe on the lookout throughout the day for some
  of the kiddos favorite characters celebrating with us\, including CoComel
 on\, Baby Sharks\, Paw Patrol\, Encanto characters\, Elmo\, Mickey & Minni
 e Mouse and many more. \nBetween performances\, the kids can experience th
 e many fun activities available\, such as a petting zoo\, face paintings\,
  games\, and activities for all to enjoy! \nLocal Talent Showcase: Emergin
 g Artist Program - Space is Limited Your child can perform on stage and be
  showcased in the hottest children's event in Texas! Contact info@kidslets
 party.com for more information. \n Tickets: https://www.click-eventstore.c
 om/event/kids-let-s-party-fest-houston-tx-239096?treferrer=TTP \nGen Admis
 sion: $24.99 VIP Party Pack: $75.00 "Limited" Front row VIP area\, 1 comme
 morative T-Shirt\, 1 VIP wristband\, 1 poster\, Meet & Greet and photo opp
 ortunity with Adassa\, Lay Lay\, Enky Boys and other artists Family 5 Pack
 : $99.00\nThe Water Works in Buffalo Bayou Park\n105 Sabine Street\nHousto
 n\, TX 77007 United States\n
LOCATION:105 Sabine Street\, Houston\, TX 77007
URL:http://houston.bubblelife.com/community/turn_to_productions_1/library/3
 59702501/key/3511175652/Kids_Lets_Party_Fest
CREATED:20220603T193334Z
LAST-MODIFIED:20220603T193334Z
DTSTAMP:20260420T175034Z
CLASS:PUBLIC
STATUS:CONFIRMED
TRANSP:TRANSPARENT
SEQUENCE:1
END:VEVENT
END:VCALENDAR
