BEGIN:VCALENDAR
VERSION:2.0
BEGIN:VEVENT
UID:CB2FFD26-06D7-4ECC-A6BE-D19BC506F3B4
DTSTART:20240330T200000Z
DTEND:20240330T230000Z
SUMMARY:Nitty Gritty Dirt Band: "All the Good Times" Farew
DESCRIPTION:The Nitty Gritty Dirt Band is saying goodbye to the road\, with
  their upcoming All the Good Times Tour . This will be your last chance to
  see them live in Houston. \n  \nOver the course of six decades\, the thre
 e-time Grammy-winning band has brought audiences classics including “Mr. B
 ojangles\,” “Fishin’ in the Dark” and “An American Dream\,” driving the po
 pularity of Americana or roots music. In 1984\, the group’s “Long Hard Roa
 d” reached No. 1 on the Hot Country Songs chart\, followed another chart-t
 opper\, “Modern Day Romance\,” in 1985 as well as 1987’s “Fishin’ in the D
 ark\,” which in recent years has been covered by artists including Carrie
  Underwood \, Luke Bryan and Dierks Bentley . \nThe group’s first gig was
  1966 in Southern California\, with their breakthrough coming in 1970 with
  “Mr. Bojangles.” In 1972\, they released the first of three "Will the Cir
 cle Be Unbroken" records\, working with pre-eminent names in bluegrass\, c
 ountry and folk.\nArena Theatre\n7326 Southwest Fwy\nHouston\, TX 77074 Un
 ited States\n
LOCATION:7326 Southwest Fwy\, Houston\, TX 77074
URL:http://houston.bubblelife.com/community/turn_to_productions_1/library/3
 59702501/key/3511261473/Nitty_Gritty_Dirt_Band_All_the_Good_Times_Farew
CREATED:20240301T233929Z
LAST-MODIFIED:20240301T233929Z
DTSTAMP:20260420T175012Z
CLASS:PUBLIC
STATUS:CONFIRMED
TRANSP:TRANSPARENT
SEQUENCE:1
END:VEVENT
END:VCALENDAR
