BEGIN:VCALENDAR
VERSION:2.0
BEGIN:VEVENT
UID:2B4DA3D8-ED3A-4ED2-B5DA-ECFFA9413D9C
DTSTART:20250906T100000Z
DTEND:20250907T110000Z
SUMMARY:7th Annual Fall Montgomery County Home and Outdoor
DESCRIPTION:The 7 th  Annual Montgomery County Home and Outdoor Living Show
  is the one-of-a-kind home improvement event Sept 6-7\, 2025 in Conroe fea
 turing special guest appearances and exhibitors with the latest products a
 nd services on the market. Visit with local professional home improvement
  contractors all under one roof- and admission is FREE! TexwoodShows.com \
 nOne day (Saturday\, Sept 6) special appearance by Dr. Lori Verderame\, a
  Ph.D. antiques appraiser\, and award-winning TV personality of Discovery
  Channel Auction Kings\, The History Channel’s The Curse of Oak Island and
  Pawn Stars Do America\, Netflix’s The King of Collectables\, and FOX Busi
 ness Network’s Strange Inheritance. \nThis is a unique opportunity to take
  your treasured antiques to Dr. Lori for the Antiques Appraisal Comedy Sho
 w for an on-the-spot appraisal of family heirlooms\, garage sale finds\, a
 nd quite possibly a valuable item. Dr. Lori has shared her expertise with
  Business Insider\, NBC TV’s Today Show\, Comedy Central’s The Daily Show\
 , NBC TV’s The Tonight Show\, Inside Edition\, People\, and Lifetime Telev
 ision. Homeowners will be able to speak one-on-one with home improvement e
 xperts\, primarily from the Montgomery County area\, with the latest produ
 cts and services on the market all under one roof. Special guest appearanc
 es by Tom Tynan of Home Show Radio\, the Houston do-it-yourself expert for
  37 years and Skip Richter\, gardening expert from KTRH GardenLine. \nAlso
 \, on Saturday (one day only) is the Children’s Entrepreneur Market from 1
 0:00am-4:00pm\, empowering children through entrepreneurial experiences to
  learn business techniques. Bring the kids to shop at a market for them wh
 ile you shop the show! \nAll your home improvement exhibitors in one place
 ! Admission is FREE! Show hours: Saturday. Sept 6 (10:00am-6:00pm) and Sun
 day\, Sept 7 (11:00am-5:00pm) at the Lone Star Convention Center\, 9055 Ai
 rport Road\, Conroe\, 77303. Visit www.TexwoodShows.com for more informati
 on about exhibitors. Free parking is available at the Lone Star Convention
  Center.\nLone Star Convention Center\n9055 Airport Road\nConroe\, TX 7730
 3 United States\n
LOCATION:9055 Airport Road\, Conroe\, TX 77303
URL:http://houston.bubblelife.com/community/taylorized_pr/library/35827710/
 key/3511330100/7th_Annual_Fall_Montgomery_County_Home_and_Outdoor
CREATED:20250626T002932Z
LAST-MODIFIED:20250626T002932Z
DTSTAMP:20260424T151417Z
CLASS:PUBLIC
STATUS:CONFIRMED
TRANSP:TRANSPARENT
SEQUENCE:1
END:VEVENT
END:VCALENDAR
