BEGIN:VCALENDAR
VERSION:2.0
BEGIN:VEVENT
UID:1965FF96-31CE-46C6-9C99-79A9FE0EDEBD
DTSTART:20250816T190000Z
DTEND:20250816T230000Z
SUMMARY:North Mississippi Allstars "Still Shakin' Tour"
DESCRIPTION:The NORTH MISSISSIPPI ALLSTARS  bring their unique blend of blu
 es\, rock\, and soul to the Charles Bender Performing Arts Center Saturday
 \, Aug 16 on their "Still Shakin' Tour\," marking the release of their lat
 est album. According to founder Luther Dickenson\, " 'Still Shakin'' is a
  celebration of our life-changing first album\, "Shake Hands with Shorty\,
 " which we released 25 years ago\, and a love letter of appreciation to ev
 eryone who supported us and kept us in the game all these years." The Nort
 h Mississippi Allstar sound evolved through musical passion and the influe
 nce of legendary players to what Dickinson says\, "our recipe was Mississi
 ppi Hill Country and Sacred Steel cross-bred with our stoner/punk/low-rent
  psychedelic jams. We started calling it Modern Mississippi Music." The li
 neup around brothers Luther and Cody Dickinson has rotated through an amaz
 ing roster of stars across gennres and has included Cedric Burnside\, Garr
 y Burnside\, Chris Chew\, Berry Oakley Jr.\, and Oteil Burbridge. The curr
 ent lineup features Joey Williams of the Blind Boys of Alabama and Ray Ray
  Hollowman\, guitarist player for Eminem. "We’ve been fortunate to share t
 he stage with countless legends\, including Phil Lesh\, Mavis Staples\, Ro
 bert Plant\, John Hiatt\, Buddy Guy\, Snoop Dogg\, and Jon Spencer." \n  \
 nGet ready to dance\, sing along\, and have a great time with friends and
  family. Don’t miss out on this unforgettable experience! Mark your calend
 ars and get ready for a night of incredible music with the NORTH MISSISSIP
 PI ALLSTARS.\nCharles Bender Performing Arts Center\n611 Higgins St\nHumbl
 e\, TX 77338 United States\n
LOCATION:611 Higgins St\, Humble\, TX 77338
URL:http://houston.bubblelife.com/community/turn_to_productions_1/library/3
 59702501/key/3511373821/North_Mississippi_Allstars_Still_Shakin_Tour
CREATED:20250809T004625Z
LAST-MODIFIED:20250809T004625Z
DTSTAMP:20260420T175034Z
CLASS:PUBLIC
STATUS:CONFIRMED
TRANSP:TRANSPARENT
SEQUENCE:1
END:VEVENT
END:VCALENDAR
