BEGIN:VCALENDAR
VERSION:2.0
BEGIN:VEVENT
UID:49928929-0238-4E6F-A1F6-72BA4D02EB27
DTSTART:20221117T183000Z
DTEND:20221117T203000Z
SUMMARY:Special Needs agency to benefit from Botox Party
DESCRIPTION:Bullritos at Cypresswood is hosting a Botox & Bingo night for a
  cause this Thursday\, November 17\, 6:30pm. The Texas-based eatery featur
 ing “the best dang burritos” is offering the event in order to donate to a
  local charity serving adults with special needs this Christmas. \n“This i
 s the time of year for us all to think about those who could use a helping
  hand this season\,” said Rachel Jelks\, executive director of TEAM Abilit
 ies\, an agency that serves adults with special needs. “We are looking for
 ward to the upcoming Botox party and hoping we have a good turnout.” \nGor
 ges Aesthetics is hosting the event at the Cypresswood Bullritos location
  offering Botox at $9/unit for party-goers. Bingo cards are unlimited and
  are offered at $10 per card. A portion of the Bingo card fee will be dona
 ted to TEAM Abilities. \nThe Bullritos location at 20053 I-45 and Cypressw
 ood is under new management and the new owners are positioning the eatery
  to be the community hub for great food\, fun and family events. \n“This i
 s such a great location to support local businesses\, schools\, and the co
 mmunity at large\,” said Donna Wick\, marketing director for Bullritos. “S
 ince new ownership\, Bullritos has supported local football teams\, charit
 ies\, hosted tailgate parties for the Texans and Astros while serving the
  freshest ingredients in our tacos\, burritos\, nachos and fajitas. It’s q
 uality food in a family atmosphere.” \nThe Botox & Bingo night will begin
  at 6:30 on Thursday\, November 17\, at 20053 I-45 and Cypresswood. Bingo
  cards are $10 and proceeds will go to TEAM Abilities. For more informatio
 n\, please call Donna at 832-790-2879.\nBULLRITOS\n20053 I-45 N\nSpring\,
  TX 77388 United States\n
LOCATION:20053 I-45 N\, Spring\, TX 77388
URL:http://houston.bubblelife.com/community/wicked_publicity/library/358580
 23/key/3511516640/Special_Needs_agency_to_benefit_from_Botox_Party
CREATED:20221114T205016Z
LAST-MODIFIED:20221114T205016Z
DTSTAMP:20260419T165138Z
CLASS:PUBLIC
STATUS:CONFIRMED
TRANSP:TRANSPARENT
SEQUENCE:1
END:VEVENT
END:VCALENDAR
