BEGIN:VCALENDAR
VERSION:2.0
BEGIN:VEVENT
UID:2F13B32C-2511-4E67-9B93-A3DA58CA2E7C
DTSTART:20221020T190000Z
DTEND:20221020T230000Z
SUMMARY:YES in Concert
URL:http://houston.bubblelife.com/community/turn_to_productions_1/library/3
 59702501/key/3511639994/YES_in_Concert
CREATED:20221005T171300Z
LAST-MODIFIED:20221005T171300Z
DTSTAMP:20260420T161244Z
CLASS:PUBLIC
STATUS:CONFIRMED
TRANSP:TRANSPARENT
SEQUENCE:1
END:VEVENT
END:VCALENDAR
