BEGIN:VCALENDAR
VERSION:2.0
BEGIN:VEVENT
UID:9A60997B-170F-4BE0-9C81-158B8B9025E6
DTSTART:20260108T190000Z
DTEND:20260711T170000Z
SUMMARY:Drunk Shakespeare Presents: Drunk Romeo & Juliet
DESCRIPTION:The Drunk Shakespeare Society is performing Drunk Romeo & Julie
 t for the first time ever! \nOne professional actor has five shots of whis
 key and then attempts to perform a major role in Shakespeare’s greatest lo
 ve story: Romeo & Juliet. Hilarity and mayhem ensue while the remaining so
 ber actors try to keep the script on track. Every show is different depend
 ing on who is drinking…and what they’re drinking! \nAudience members can p
 urchase craft cocktails and snacks during the show\, enhancing the immersi
 ve experience. Whether choosing to join in or watch the antics of history’
 s most famous story unfold\, attendees are promised an unforgettable night
  of entertainment. \nTickets can be purchased here. \n SHOWTIMES: \n Janua
 ry 8\, 2026 – July 11\, 2026 \n Wednesday – Thursday: 7 PM \n Friday: 7 PM
 \, 9 PM \n Saturday: 3 PM (Depends on date)\, 5 PM\, 7 PM and 9 PM \n Sund
 ay: 5 PM\nThe Emerald Theatre\n412 Travis St.\nHouston\, TX 77002 United S
 tates\n
LOCATION:412 Travis St.\, Houston\, TX 77002
URL:http://houston.bubblelife.com/community/the_pr_boutique_1/library/35801
 543/key/3511703233/Drunk_Shakespeare_Presents_Drunk_Romeo_Juliet
CREATED:20260105T220201Z
LAST-MODIFIED:20260105T220201Z
DTSTAMP:20260419T164138Z
CLASS:PUBLIC
STATUS:CONFIRMED
TRANSP:TRANSPARENT
SEQUENCE:1
END:VEVENT
END:VCALENDAR
