BEGIN:VCALENDAR
VERSION:2.0
BEGIN:VEVENT
UID:9D93F69A-2419-4997-A0F3-9627DC35E304
DTSTART:20260321T100000Z
DTEND:20260322T170000Z
SUMMARY:Cy Fair Home and Outdoor Living Show
DESCRIPTION:The 18th Annual Cy-Fair Home and Outdoor Living Show is March 2
 3-24 at the Berry Center with special guest appearances and over 100 exhib
 itors with the latest home improvement products and services on the market
 . \nMeet Houston’s Trusted Home Expert Tom Tynan\,  HomeShow Radio\, Garde
 ning Expert Skip Richter\, and host of AM 740 KTRH GardenLine. \nSaturday\
 , March 21\, for one day only there is the Children’s Entrepreneur Market
  from 10:00am-4:00pm\, empowering children through entrepreneurial experie
 nces to learn business techniques. Bring the kids to shop at a market for
  them while you walk through the show!  \nFind a bargain at the Greater Ho
 uston Builders Association Charity Garage Sale. Items include washers/drye
 rs\, tile flooring\, windows\, doors\, cabinets\, fixtures\, and more gent
 ly used or brand new for all your home improvement projects. \nAdmission i
 s FREE! \nSat March 22 (9:00am-6:00pm) and Sun March 23 (10:00am-5:00pm) \
 nBerry Center 8877 Barker Cypress Road\, Cypress 77433 \n https://texwoods
 hows.com/live-shows/cy-fair-home-outdoor-living-show/\nTony Wood\n8877 Bar
 ker Cypress Road\nCypress\, TX 77433 United States\n
LOCATION:8877 Barker Cypress Road\, Cypress\, TX 77433
URL:http://houston.bubblelife.com/community/taylorized_pr/library/35827710/
 key/3511799003/Cy_Fair_Home_and_Outdoor_Living_Show
CREATED:20251130T155002Z
LAST-MODIFIED:20251130T155002Z
DTSTAMP:20260424T153153Z
CLASS:PUBLIC
STATUS:CONFIRMED
TRANSP:TRANSPARENT
SEQUENCE:1
END:VEVENT
END:VCALENDAR
