BEGIN:VCALENDAR
VERSION:2.0
BEGIN:VEVENT
UID:E080F47A-56AE-4E85-BFA9-6D2F7EC06FE2
DTSTART:20260307T100000Z
DTEND:20260308T170000Z
SUMMARY:Montgomery County Home and Outdoor Living Show
DESCRIPTION:The 8 th Annual Montgomery County Home and Outdoor Living Show
  turns your House into a Dream Home! \nThe 8 th  Annual Montgomery County
  Home and Outdoor Living Show is the one-of-a-kind home improvement event
  on March 7-8\, in Conroe featuring special guest appearances and exhibito
 rs with the latest products and services on the market. Visit with local p
 rofessional home improvement contractors all under one roof- and admission
  is FREE! TexwoodShows.com \n Are you ready to turn your house into a Drea
 m Home? Homeowners will be able to speak one-on-one with home improvement
  experts with the latest products and services on the market\, all under o
 ne roof. Get inspiration from the expert advice and amazing deals! \nSpeci
 al guest appearances by Tom Tynan of Home Show Radio\, the Houston do-it-y
 ourself expert for 37 years and Skip Richter\, gardening expert from KTRH
  GardenLine. \nAlso\, on Saturday (one day only) there is the Children’s E
 ntrepreneur Market from 10:00am-4:00pm\, empowering children through entre
 preneurial experiences to learn business techniques. Bring the kids to sho
 p at a market for them while you walk through the show! \n Talk to all you
 r home improvement exhibitors in one place! Admission is FREE! Show hours:
  Saturday\, March 7 (10:00am-6:00pm) and Sunday\, March 8 (10:00am-4:00pm)
  at the Lone Star Convention Center\, 9055 Airport Road\, Conroe\, 77303.
  Visit www.TexwoodShows.com for more information about exhibitors. Free pa
 rking is available at the Lone Star Convention Center.\nLone Star Conventi
 on Center\n9055 Airport Road\nConroe\, TX 77303 United States\n
LOCATION:9055 Airport Road\, Conroe\, TX 77303
URL:http://houston.bubblelife.com/community/taylorized_pr/library/35827710/
 key/3511799064/Montgomery_County_Home_and_Outdoor_Living_Show
CREATED:20251130T152945Z
LAST-MODIFIED:20251130T152945Z
DTSTAMP:20260424T153152Z
CLASS:PUBLIC
STATUS:CONFIRMED
TRANSP:TRANSPARENT
SEQUENCE:1
END:VEVENT
END:VCALENDAR
