BEGIN:VCALENDAR
VERSION:2.0
BEGIN:VEVENT
UID:4909A962-2D07-4813-9A96-4C1FB93B2E4D
DTSTART:20240907T090000Z
DTEND:20240908T170000Z
SUMMARY:Montgomery County Home and Outdoor Living Show
DESCRIPTION:The 6th Annual Fall Home ansd Outdoor Living Show is the one-of
 -a-kind home improvement event in Conroe featuring special guest appearanc
 es and exhbitors with the latest products and services on the market. Admi
 ssion is FREE! Visit with local home improvement contractors all under one
  roof.  \nFeatured Landscape Exhibitor Outdoor Perfection has the newest w
 ays to have a beautiful minimal maintenance yard in our Texas weather. Mee
 t Houston’s Trusted Home Expert Tom Tynan\,  HomeShow Radio\, Gardening Ex
 pert Skip Richter\, and host of AM 740 KTRH GardenLine\, and many local ex
 perts to get your home ready for the Holidays! \n Sat Sept 7 (9:00am-6:00p
 m) and Sun Sept 8 (10:00am-5:00pm) \nFree Admission \nLone Star Convention
  Center 9055 Airport Road\, Conroe\, TX 77303 https://texwoodshows.com/liv
 e-shows/montgomery-show\nLone Star Convention Center\n9055 Airport Road\nC
 onroe\, TX 77303 United States\n
LOCATION:9055 Airport Road\, Conroe\, TX 77303
URL:http://houston.bubblelife.com/community/taylorized_pr/library/35827710/
 key/3511813601/Montgomery_County_Home_and_Outdoor_Living_Show
CREATED:20240613T201219Z
LAST-MODIFIED:20240613T201219Z
DTSTAMP:20260424T153221Z
CLASS:PUBLIC
STATUS:CONFIRMED
TRANSP:TRANSPARENT
SEQUENCE:1
END:VEVENT
END:VCALENDAR
