BEGIN:VCALENDAR
VERSION:2.0
BEGIN:VEVENT
UID:CF97D0B2-5E4E-4CBD-B42D-F5D17A9AC6BA
DTSTART:20240823T190000Z
DTEND:20240825T180000Z
SUMMARY:Mariachi Festival
DESCRIPTION:The 5th Annual Mariachi Festival comes to Wortham Theater Augus
 t 23-25\, 2024\, in partnership with Performing Arts Houston. The Mariachi
  Festival's mission is to celebrate and promote our beautiful and lively H
 ispanic culture\, that is such an important part of Houston's history and
  diversity. Our goal is to make Houston a city that is known for first-cla
 ss events featuring some of the best mariachi and ballet folklórico groups
  in the country and establish mariachi and ballet folklórico programs in s
 chools. \n  \n Performers include the following: \n  \nFriday\, August 23
  at 7 pm \nOscar De La Rosa (singing with mariachi) \nMariachi 7 Leguas \n
 Rio Grande Valley Ballet Folklórico \nCarolina Rodriguez (Grand Champion o
 f 2024 Festiba Mariachi Festival) \nAttendees are encouraged to dress busi
 ness casual for a light and wonderful evening of music.  \n  \nSaturday\,
  August 24 at 7 pm \nMariachi Mariposas \nUniversity of Houston Mariachi P
 umas \nBallet Folklórico South Texas College \nWinners of the 2024 Nationa
 l Youth Mariachi Vocalist Competition \nYasmine Duenes (Grand Champion of
  2023 Mariachi Extravaganza) \nAttendees are asked to dress to impress in
  formal wear for an evening of celebration. \n  \nSunday\, August 25 at 3
  pm \nMariachi Imperial de America \nMéxico en Danzas Grupo Folklórico \nE
 duardo Antonio Treviño (as seen on America's Got Talent) \nAudience member
 s are encouraged to sport traditional Mexican dresses and guayaberas.\nWor
 tham Theater Center\n501 Texas Ave\nHouston\, 77002 United States\n
LOCATION:501 Texas Ave\, Houston\, 77002
URL:http://houston.bubblelife.com/community/turn_to_productions_1/library/3
 59702501/key/3511896450/Mariachi_Festival
CREATED:20240729T021047Z
LAST-MODIFIED:20240729T021047Z
DTSTAMP:20260420T175046Z
CLASS:PUBLIC
STATUS:CONFIRMED
TRANSP:TRANSPARENT
SEQUENCE:1
END:VEVENT
END:VCALENDAR
